BEGIN:VCALENDAR
VERSION:2.0
PRODID:-//Tukios.com/
BEGIN:VEVENT
UID:7049f1a0-37a2-4fe4-a3fc-1893e3ccfd8c@www.mayerfuneralhome.com
DTSTAMP:20260423T212512Z
DTSTART:20260426T230000Z
DTEND:20260427T000000Z
SUMMARY:Mass
DESCRIPTION:
URL:https://www.mayerfuneralhome.com/obituaries/fabiana-camacho
LOCATION:St. Mary Our Lady of Ransom Catholic Church 317 Broad Street  
	Georgetown SC 29440
GEO:33.3691823;-79.2812966
END:VEVENT
END:VCALENDAR