BEGIN:VCALENDAR
VERSION:2.0
PRODID:-//Tukios.com/
BEGIN:VEVENT
UID:52b05e5d-5f52-47f4-be2d-84af1018c4d5@www.mayerfuneralhome.com
DTSTAMP:20260423T212851Z
DTSTART:20260425T220000Z
DTEND:20260426T000000Z
SUMMARY:Visitation
DESCRIPTION:
URL:https://www.mayerfuneralhome.com/obituaries/fabiana-camacho
LOCATION: 2200 S Fraser St  Georgetown SC 29440
GEO:33.3445149;-79.2991235
END:VEVENT
END:VCALENDAR