BEGIN:VCALENDAR
VERSION:2.0
PRODID:-//Tukios.com/
BEGIN:VEVENT
UID:826d91e8-2646-477a-a240-109be3c8b40d@www.mayerfuneralhome.com
DTSTAMP:20260420T215249Z
DTSTART:20260422T150000Z
DTEND:20260422T160000Z
SUMMARY:Memorial Service
DESCRIPTION:
URL:https://www.mayerfuneralhome.com/obituaries/lynn-mixon
LOCATION:Trinity Global Methodist Church 205 South Rosemary Avenue  
	Andrews SC 29510
GEO:33.447064;-79.560441
END:VEVENT
END:VCALENDAR